BEGIN:VCALENDAR
VERSION:2.0
PRODID:-//Plone.org//NONSGML plone.app.event//EN
X-WR-TIMEZONE:Europe/Madrid
BEGIN:VEVENT
SUMMARY:Dins el bosc - Bebecontes
DTSTART;TZID=Europe/Madrid:20231005T170000
DTEND;TZID=Europe/Madrid:20231005T173000
DTSTAMP:20260424T000739Z
UID:dbef8bef27e041519e1305757e3f3bcf@www.badalona.cat
CREATED:20231124T085411Z
LAST-MODIFIED:20231124T085411Z
URL:https://www.badalona.cat/ca/actualitat/agenda/35882
END:VEVENT
BEGIN:VTIMEZONE
TZID:Europe/Madrid
X-LIC-LOCATION:Europe/Madrid
BEGIN:DAYLIGHT
DTSTART:20230326T030000
TZNAME:CEST
TZOFFSETFROM:+0100
TZOFFSETTO:+0200
END:DAYLIGHT
END:VTIMEZONE
END:VCALENDAR
