BEGIN:VCALENDAR
VERSION:2.0
PRODID:-//Plone.org//NONSGML plone.app.event//EN
X-WR-TIMEZONE:Europe/Madrid
BEGIN:VEVENT
SUMMARY:A pecho descubierto - Presentació de llibre
DTSTART;TZID=Europe/Madrid:20231007T120000
DTEND;TZID=Europe/Madrid:20231007T130000
DTSTAMP:20260424T013318Z
UID:e6e9aac898574ef2a08fb324aa2f25fd@www.badalona.cat
CREATED:20231124T085410Z
LAST-MODIFIED:20231124T085410Z
URL:https://www.badalona.cat/ca/actualitat/agenda/35880
END:VEVENT
BEGIN:VTIMEZONE
TZID:Europe/Madrid
X-LIC-LOCATION:Europe/Madrid
BEGIN:DAYLIGHT
DTSTART:20230326T030000
TZNAME:CEST
TZOFFSETFROM:+0100
TZOFFSETTO:+0200
END:DAYLIGHT
END:VTIMEZONE
END:VCALENDAR
