BEGIN:VCALENDAR
VERSION:2.0
PRODID:-//Plone.org//NONSGML plone.app.event//EN
X-WR-TIMEZONE:Europe/Madrid
BEGIN:VEVENT
SUMMARY:Visita guiada a la fàbrica de l'Anís del Mono 10 h
DTSTART;TZID=Europe/Madrid:20231015T100000
DTEND;TZID=Europe/Madrid:20231015T113000
DTSTAMP:20260424T000738Z
UID:11f02da3e3d4477183f7cd10ab8ece71@www.badalona.cat
CREATED:20231124T085410Z
LAST-MODIFIED:20231124T085410Z
URL:https://www.badalona.cat/ca/actualitat/agenda/35877
END:VEVENT
BEGIN:VTIMEZONE
TZID:Europe/Madrid
X-LIC-LOCATION:Europe/Madrid
BEGIN:DAYLIGHT
DTSTART:20230326T030000
TZNAME:CEST
TZOFFSETFROM:+0100
TZOFFSETTO:+0200
END:DAYLIGHT
END:VTIMEZONE
END:VCALENDAR
