BEGIN:VCALENDAR
VERSION:2.0
PRODID:-//Plone.org//NONSGML plone.app.event//EN
X-WR-TIMEZONE:Europe/Madrid
BEGIN:VEVENT
SUMMARY:FILMETS Badalona Film Festival
DTSTART;TZID=Europe/Madrid:20231002T000000
DTEND;TZID=Europe/Madrid:20231011T235959
DTSTAMP:20260424T000827Z
UID:dc97fe1d22be4fbe9e4f82016d5f8d63@www.badalona.cat
CREATED:20231124T085410Z
LAST-MODIFIED:20231124T085410Z
URL:https://www.badalona.cat/ca/actualitat/agenda/35873
END:VEVENT
BEGIN:VTIMEZONE
TZID:Europe/Madrid
X-LIC-LOCATION:Europe/Madrid
BEGIN:DAYLIGHT
DTSTART:20230326T030000
TZNAME:CEST
TZOFFSETFROM:+0100
TZOFFSETTO:+0200
END:DAYLIGHT
END:VTIMEZONE
END:VCALENDAR
