BEGIN:VCALENDAR
VERSION:2.0
PRODID:-//Plone.org//NONSGML plone.app.event//EN
X-WR-TIMEZONE:Europe/Madrid
BEGIN:VEVENT
SUMMARY:Cinemaprop: 'El viatge de Chihiro'
DTSTART;TZID=Europe/Madrid:20231008T180000
DTEND;TZID=Europe/Madrid:20231008T200500
DTSTAMP:20260424T000852Z
UID:68dbafa479934f16a88f25d7139a424f@www.badalona.cat
CREATED:20231124T085410Z
LAST-MODIFIED:20231124T085410Z
URL:https://www.badalona.cat/ca/actualitat/agenda/35867
END:VEVENT
BEGIN:VTIMEZONE
TZID:Europe/Madrid
X-LIC-LOCATION:Europe/Madrid
BEGIN:DAYLIGHT
DTSTART:20230326T030000
TZNAME:CEST
TZOFFSETFROM:+0100
TZOFFSETTO:+0200
END:DAYLIGHT
END:VTIMEZONE
END:VCALENDAR
