BEGIN:VCALENDAR
VERSION:2.0
PRODID:-//Plone.org//NONSGML plone.app.event//EN
X-WR-TIMEZONE:Europe/Madrid
BEGIN:VEVENT
SUMMARY:IV Recital Poètic 2023
DTSTART;TZID=Europe/Madrid:20231004T173000
DTEND;TZID=Europe/Madrid:20231004T010000
DTSTAMP:20260424T000828Z
UID:cf13892293d4421f9c544c83b800302c@www.badalona.cat
CREATED:20231124T085410Z
LAST-MODIFIED:20231124T085410Z
URL:https://www.badalona.cat/ca/actualitat/agenda/35865
END:VEVENT
BEGIN:VTIMEZONE
TZID:Europe/Madrid
X-LIC-LOCATION:Europe/Madrid
BEGIN:DAYLIGHT
DTSTART:20230326T030000
TZNAME:CEST
TZOFFSETFROM:+0100
TZOFFSETTO:+0200
END:DAYLIGHT
END:VTIMEZONE
END:VCALENDAR
