BEGIN:VCALENDAR
VERSION:2.0
PRODID:-//Plone.org//NONSGML plone.app.event//EN
X-WR-TIMEZONE:Europe/Madrid
BEGIN:VEVENT
SUMMARY:"El Marroc sensual i fanàtic"\, d’Aurora Bertrana. Per Elisenda
  Marcer
DTSTART;TZID=Europe/Madrid:20231010T190000
DTEND;TZID=Europe/Madrid:20231010T203000
DTSTAMP:20260424T021347Z
UID:18da1c4f5e4347a5a3c47188baa140c1@www.badalona.cat
CREATED:20231124T085409Z
LAST-MODIFIED:20231124T085409Z
URL:https://www.badalona.cat/ca/actualitat/agenda/35846
END:VEVENT
BEGIN:VTIMEZONE
TZID:Europe/Madrid
X-LIC-LOCATION:Europe/Madrid
BEGIN:DAYLIGHT
DTSTART:20230326T030000
TZNAME:CEST
TZOFFSETFROM:+0100
TZOFFSETTO:+0200
END:DAYLIGHT
END:VTIMEZONE
END:VCALENDAR
