BEGIN:VCALENDAR
VERSION:2.0
PRODID:-//Plone.org//NONSGML plone.app.event//EN
X-WR-TIMEZONE:Europe/Madrid
BEGIN:VEVENT
SUMMARY:'UN VESTIT NOU PER A L’EMPERADOR' Cia. La Pera Llimonera
DTSTART;TZID=Europe/Madrid:20231008T180000
DTEND;TZID=Europe/Madrid:20231008T190000
DTSTAMP:20260424T041952Z
UID:773244c6f7a64d35a21d8fce63704df7@www.badalona.cat
CREATED:20231124T085409Z
LAST-MODIFIED:20231124T085409Z
URL:https://www.badalona.cat/ca/actualitat/agenda/35845
END:VEVENT
BEGIN:VTIMEZONE
TZID:Europe/Madrid
X-LIC-LOCATION:Europe/Madrid
BEGIN:DAYLIGHT
DTSTART:20230326T030000
TZNAME:CEST
TZOFFSETFROM:+0100
TZOFFSETTO:+0200
END:DAYLIGHT
END:VTIMEZONE
END:VCALENDAR
