BEGIN:VCALENDAR
VERSION:2.0
PRODID:-//Plone.org//NONSGML plone.app.event//EN
X-WR-TIMEZONE:Europe/Madrid
BEGIN:VEVENT
SUMMARY:'FOREVER' Cia. Kulunka Teatro
DTSTART;TZID=Europe/Madrid:20231006T200000
DTEND;TZID=Europe/Madrid:20231006T214500
DTSTAMP:20260424T012653Z
UID:6b01292d19b3483487b049b31184e958@www.badalona.cat
CREATED:20231124T085409Z
LAST-MODIFIED:20231124T085409Z
URL:https://www.badalona.cat/ca/actualitat/agenda/35842
END:VEVENT
BEGIN:VTIMEZONE
TZID:Europe/Madrid
X-LIC-LOCATION:Europe/Madrid
BEGIN:DAYLIGHT
DTSTART:20230326T030000
TZNAME:CEST
TZOFFSETFROM:+0100
TZOFFSETTO:+0200
END:DAYLIGHT
END:VTIMEZONE
END:VCALENDAR
