BEGIN:VCALENDAR
VERSION:2.0
PRODID:-//Plone.org//NONSGML plone.app.event//EN
X-WR-TIMEZONE:Europe/Madrid
BEGIN:VEVENT
SUMMARY:Connecta't - Taller d'alfabetització digital
DTSTART;TZID=Europe/Madrid:20231003T050000
DTEND;TZID=Europe/Madrid:20231003T190000
DTSTAMP:20260424T000851Z
UID:f4a40ced7c1e472692c19079cff1f8e4@www.badalona.cat
CREATED:20231124T085408Z
LAST-MODIFIED:20231124T085408Z
URL:https://www.badalona.cat/ca/actualitat/agenda/35827
END:VEVENT
BEGIN:VTIMEZONE
TZID:Europe/Madrid
X-LIC-LOCATION:Europe/Madrid
BEGIN:DAYLIGHT
DTSTART:20230326T030000
TZNAME:CEST
TZOFFSETFROM:+0100
TZOFFSETTO:+0200
END:DAYLIGHT
END:VTIMEZONE
END:VCALENDAR
