BEGIN:VCALENDAR
VERSION:2.0
PRODID:-//Plone.org//NONSGML plone.app.event//EN
X-WR-TIMEZONE:Europe/Madrid
BEGIN:VEVENT
SUMMARY:SESSIÓ CLUB DE LECTURA MATINAL MITJA MOSCA "ARADA TORTA"
DTSTART;TZID=Europe/Madrid:20231003T113000
DTEND;TZID=Europe/Madrid:20231003T123000
DTSTAMP:20260424T055152Z
UID:0b0591fbc80f4a079225a4065604e5c5@www.badalona.cat
CREATED:20231124T085408Z
LAST-MODIFIED:20231124T085408Z
URL:https://www.badalona.cat/ca/actualitat/agenda/35808
END:VEVENT
BEGIN:VTIMEZONE
TZID:Europe/Madrid
X-LIC-LOCATION:Europe/Madrid
BEGIN:DAYLIGHT
DTSTART:20230326T030000
TZNAME:CEST
TZOFFSETFROM:+0100
TZOFFSETTO:+0200
END:DAYLIGHT
END:VTIMEZONE
END:VCALENDAR
