BEGIN:VCALENDAR
VERSION:2.0
PRODID:-//Plone.org//NONSGML plone.app.event//EN
X-WR-TIMEZONE:Europe/Madrid
BEGIN:VEVENT
SUMMARY:Visita guiada a la Casa dels Dofins i la Casa de l'Heura 10:30 h
DTSTART;TZID=Europe/Madrid:20231001T103000
DTEND;TZID=Europe/Madrid:20231001T120000
DTSTAMP:20260424T000857Z
UID:f74eafac0a4048de8559c7a395daa550@www.badalona.cat
CREATED:20231124T085408Z
LAST-MODIFIED:20231124T085408Z
URL:https://www.badalona.cat/ca/actualitat/agenda/35790
END:VEVENT
BEGIN:VTIMEZONE
TZID:Europe/Madrid
X-LIC-LOCATION:Europe/Madrid
BEGIN:DAYLIGHT
DTSTART:20230326T030000
TZNAME:CEST
TZOFFSETFROM:+0100
TZOFFSETTO:+0200
END:DAYLIGHT
END:VTIMEZONE
END:VCALENDAR
