BEGIN:VCALENDAR
VERSION:2.0
PRODID:-//Plone.org//NONSGML plone.app.event//EN
X-WR-TIMEZONE:Europe/Madrid
BEGIN:VEVENT
SUMMARY:Taller de Moixaines i Jocs de Falda
DTSTART;TZID=Europe/Madrid:20230926T170000
DTEND;TZID=Europe/Madrid:20230926T180000
DTSTAMP:20260424T000857Z
UID:a1a243034ebe46d39c425a31c8a4b1ee@www.badalona.cat
CREATED:20231124T085408Z
LAST-MODIFIED:20231124T085408Z
URL:https://www.badalona.cat/ca/actualitat/agenda/35787
END:VEVENT
BEGIN:VTIMEZONE
TZID:Europe/Madrid
X-LIC-LOCATION:Europe/Madrid
BEGIN:DAYLIGHT
DTSTART:20230326T030000
TZNAME:CEST
TZOFFSETFROM:+0100
TZOFFSETTO:+0200
END:DAYLIGHT
END:VTIMEZONE
END:VCALENDAR
