BEGIN:VCALENDAR
VERSION:2.0
PRODID:-//Plone.org//NONSGML plone.app.event//EN
X-WR-TIMEZONE:Europe/Madrid
BEGIN:VEVENT
SUMMARY:II Carretillada - Ball de Diables de Badalona
DTSTART;TZID=Europe/Madrid:20230930T213000
DTEND;TZID=Europe/Madrid:20230930T235500
DTSTAMP:20260423T202532Z
UID:c9cc1642b9844e70b6f06d2891efa21a@www.badalona.cat
CREATED:20231124T085408Z
LAST-MODIFIED:20231124T085408Z
URL:https://www.badalona.cat/ca/actualitat/agenda/35786
END:VEVENT
BEGIN:VTIMEZONE
TZID:Europe/Madrid
X-LIC-LOCATION:Europe/Madrid
BEGIN:DAYLIGHT
DTSTART:20230326T030000
TZNAME:CEST
TZOFFSETFROM:+0100
TZOFFSETTO:+0200
END:DAYLIGHT
END:VTIMEZONE
END:VCALENDAR
