BEGIN:VCALENDAR
VERSION:2.0
PRODID:-//Plone.org//NONSGML plone.app.event//EN
X-WR-TIMEZONE:Europe/Madrid
BEGIN:VEVENT
SUMMARY:CONCERT DE JO JET I MARIA RIBOT. GIRA 10 ANYS "MIRA LLUNY" - Llibr
 eria Mitja Mosca
DTSTART;TZID=Europe/Madrid:20230930T120000
DTEND;TZID=Europe/Madrid:20230930T140000
DTSTAMP:20260424T000858Z
UID:e4e4da7e2c004428aa7e09b360118d19@www.badalona.cat
CREATED:20231124T085407Z
LAST-MODIFIED:20231124T085407Z
URL:https://www.badalona.cat/ca/actualitat/agenda/35783
END:VEVENT
BEGIN:VTIMEZONE
TZID:Europe/Madrid
X-LIC-LOCATION:Europe/Madrid
BEGIN:DAYLIGHT
DTSTART:20230326T030000
TZNAME:CEST
TZOFFSETFROM:+0100
TZOFFSETTO:+0200
END:DAYLIGHT
END:VTIMEZONE
END:VCALENDAR
