BEGIN:VCALENDAR
VERSION:2.0
PRODID:-//Plone.org//NONSGML plone.app.event//EN
X-WR-TIMEZONE:Europe/Madrid
BEGIN:VEVENT
SUMMARY:CLUB DE LECTURA MITJA MOSCA "UNA HISTÒRIA ÉS UNA PEDRA LLANÇADA
  AL RIU"
DTSTART;TZID=Europe/Madrid:20230926T193000
DTEND;TZID=Europe/Madrid:20230926T203000
DTSTAMP:20260422T134158Z
UID:2fc99ee4b6d047d3929b155beb12cf41@www.badalona.cat
CREATED:20231124T085407Z
LAST-MODIFIED:20231124T085407Z
URL:https://www.badalona.cat/ca/actualitat/agenda/35758
END:VEVENT
BEGIN:VTIMEZONE
TZID:Europe/Madrid
X-LIC-LOCATION:Europe/Madrid
BEGIN:DAYLIGHT
DTSTART:20230326T030000
TZNAME:CEST
TZOFFSETFROM:+0100
TZOFFSETTO:+0200
END:DAYLIGHT
END:VTIMEZONE
END:VCALENDAR
