BEGIN:VCALENDAR
VERSION:2.0
PRODID:-//Plone.org//NONSGML plone.app.event//EN
X-WR-TIMEZONE:Europe/Madrid
BEGIN:VEVENT
SUMMARY:Taller de Moixaines i Jocs de Falda - Bebecontes
DTSTART;TZID=Europe/Madrid:20230919T080000
DTEND;TZID=Europe/Madrid:20230919T170000
DTSTAMP:20260424T000740Z
UID:97d20ef63bae4fe88aae3141e812424a@www.badalona.cat
CREATED:20231124T085407Z
LAST-MODIFIED:20231124T085407Z
URL:https://www.badalona.cat/ca/actualitat/agenda/35748
END:VEVENT
BEGIN:VTIMEZONE
TZID:Europe/Madrid
X-LIC-LOCATION:Europe/Madrid
BEGIN:DAYLIGHT
DTSTART:20230326T030000
TZNAME:CEST
TZOFFSETFROM:+0100
TZOFFSETTO:+0200
END:DAYLIGHT
END:VTIMEZONE
END:VCALENDAR
