BEGIN:VCALENDAR
VERSION:2.0
PRODID:-//Plone.org//NONSGML plone.app.event//EN
X-WR-TIMEZONE:Europe/Madrid
BEGIN:VEVENT
SUMMARY:'Petzi i la mar salada' - Pack Màgic
DTSTART;TZID=Europe/Madrid:20230924T120000
DTEND;TZID=Europe/Madrid:20230924T131500
DTSTAMP:20260424T042003Z
UID:3201a0ca561a41f1a043acd1857d9037@www.badalona.cat
CREATED:20231124T085406Z
LAST-MODIFIED:20231124T085406Z
URL:https://www.badalona.cat/ca/actualitat/agenda/35723
END:VEVENT
BEGIN:VTIMEZONE
TZID:Europe/Madrid
X-LIC-LOCATION:Europe/Madrid
BEGIN:DAYLIGHT
DTSTART:20230326T030000
TZNAME:CEST
TZOFFSETFROM:+0100
TZOFFSETTO:+0200
END:DAYLIGHT
END:VTIMEZONE
END:VCALENDAR
