BEGIN:VCALENDAR
VERSION:2.0
PRODID:-//Plone.org//NONSGML plone.app.event//EN
X-WR-TIMEZONE:Europe/Madrid
BEGIN:VEVENT
SUMMARY:'COST DE VIDA' de Martyna Majok
DTSTART;TZID=Europe/Madrid:20230923T200000
DTEND;TZID=Europe/Madrid:20230923T220000
DTSTAMP:20260422T182107Z
UID:b8a0708a330a4b079f1061ff572dd139@www.badalona.cat
CREATED:20231124T085406Z
LAST-MODIFIED:20231124T085406Z
URL:https://www.badalona.cat/ca/actualitat/agenda/35722
END:VEVENT
BEGIN:VTIMEZONE
TZID:Europe/Madrid
X-LIC-LOCATION:Europe/Madrid
BEGIN:DAYLIGHT
DTSTART:20230326T030000
TZNAME:CEST
TZOFFSETFROM:+0100
TZOFFSETTO:+0200
END:DAYLIGHT
END:VTIMEZONE
END:VCALENDAR
