BEGIN:VCALENDAR
VERSION:2.0
PRODID:-//Plone.org//NONSGML plone.app.event//EN
X-WR-TIMEZONE:Europe/Madrid
BEGIN:VEVENT
SUMMARY:79è APLEC DE LA SARDANA DE BADALONA
DTSTART;TZID=Europe/Madrid:20230917T103000
DTEND;TZID=Europe/Madrid:20230917T200000
DTSTAMP:20260422T115750Z
UID:90051324db4e4b58acb50af1092613cf@www.badalona.cat
CREATED:20231124T085406Z
LAST-MODIFIED:20231124T085406Z
URL:https://www.badalona.cat/ca/actualitat/agenda/35716
END:VEVENT
BEGIN:VTIMEZONE
TZID:Europe/Madrid
X-LIC-LOCATION:Europe/Madrid
BEGIN:DAYLIGHT
DTSTART:20230326T030000
TZNAME:CEST
TZOFFSETFROM:+0100
TZOFFSETTO:+0200
END:DAYLIGHT
END:VTIMEZONE
END:VCALENDAR
