BEGIN:VCALENDAR
VERSION:2.0
PRODID:-//Plone.org//NONSGML plone.app.event//EN
X-WR-TIMEZONE:Europe/Madrid
BEGIN:VEVENT
SUMMARY:Visita guiada a la fàbrica de l'Anís del Mono 12 h
DTSTART;TZID=Europe/Madrid:20230917T120000
DTEND;TZID=Europe/Madrid:20230917T133000
DTSTAMP:20260422T115848Z
UID:afa64890007642559d12a1d6a793535c@www.badalona.cat
CREATED:20231124T085405Z
LAST-MODIFIED:20231124T085405Z
URL:https://www.badalona.cat/ca/actualitat/agenda/35707
END:VEVENT
BEGIN:VTIMEZONE
TZID:Europe/Madrid
X-LIC-LOCATION:Europe/Madrid
BEGIN:DAYLIGHT
DTSTART:20230326T030000
TZNAME:CEST
TZOFFSETFROM:+0100
TZOFFSETTO:+0200
END:DAYLIGHT
END:VTIMEZONE
END:VCALENDAR
