BEGIN:VCALENDAR
VERSION:2.0
PRODID:-//Plone.org//NONSGML plone.app.event//EN
X-WR-TIMEZONE:Europe/Madrid
BEGIN:VEVENT
SUMMARY:Has vist les meves claus? – Xerrada
DTSTART;TZID=Europe/Madrid:20230913T170000
DTEND;TZID=Europe/Madrid:20230913T180000
DTSTAMP:20260422T155043Z
UID:63726b39103f4d76bed474b4a6a31795@www.badalona.cat
CREATED:20231124T085405Z
LAST-MODIFIED:20231124T085405Z
URL:https://www.badalona.cat/ca/actualitat/agenda/35687
END:VEVENT
BEGIN:VTIMEZONE
TZID:Europe/Madrid
X-LIC-LOCATION:Europe/Madrid
BEGIN:DAYLIGHT
DTSTART:20230326T030000
TZNAME:CEST
TZOFFSETFROM:+0100
TZOFFSETTO:+0200
END:DAYLIGHT
END:VTIMEZONE
END:VCALENDAR
