BEGIN:VCALENDAR
VERSION:2.0
PRODID:-//Plone.org//NONSGML plone.app.event//EN
X-WR-TIMEZONE:Europe/Madrid
BEGIN:VEVENT
SUMMARY:Visita guiada a l'exposició '50 anys Camí. Escultures'
DTSTART;TZID=Europe/Madrid:20230913T180000
DTEND;TZID=Europe/Madrid:20230913T200000
DTSTAMP:20260422T115750Z
UID:b45df08931894f5188ff9a724b9b88ca@www.badalona.cat
CREATED:20231124T085405Z
LAST-MODIFIED:20231124T085405Z
URL:https://www.badalona.cat/ca/actualitat/agenda/35683
END:VEVENT
BEGIN:VTIMEZONE
TZID:Europe/Madrid
X-LIC-LOCATION:Europe/Madrid
BEGIN:DAYLIGHT
DTSTART:20230326T030000
TZNAME:CEST
TZOFFSETFROM:+0100
TZOFFSETTO:+0200
END:DAYLIGHT
END:VTIMEZONE
END:VCALENDAR
