BEGIN:VCALENDAR
VERSION:2.0
PRODID:-//Plone.org//NONSGML plone.app.event//EN
X-WR-TIMEZONE:Europe/Madrid
BEGIN:VEVENT
SUMMARY:Visita guiada a l'exposició: 50 anys. Camí. Escultures
DTSTART;TZID=Europe/Madrid:20230917T110000
DTEND;TZID=Europe/Madrid:20230917T123000
DTSTAMP:20260422T192753Z
UID:75a98167cbc04e06a6e054f2b4f77848@www.badalona.cat
CREATED:20231124T085405Z
LAST-MODIFIED:20231124T085405Z
URL:https://www.badalona.cat/ca/actualitat/agenda/35681
END:VEVENT
BEGIN:VTIMEZONE
TZID:Europe/Madrid
X-LIC-LOCATION:Europe/Madrid
BEGIN:DAYLIGHT
DTSTART:20230326T030000
TZNAME:CEST
TZOFFSETFROM:+0100
TZOFFSETTO:+0200
END:DAYLIGHT
END:VTIMEZONE
END:VCALENDAR
