BEGIN:VCALENDAR
VERSION:2.0
PRODID:-//Plone.org//NONSGML plone.app.event//EN
X-WR-TIMEZONE:Europe/Madrid
BEGIN:VEVENT
SUMMARY:Presentació 'Adaptoid 24'
DTSTART;TZID=Europe/Madrid:20230909T120000
DTEND;TZID=Europe/Madrid:20230909T133000
DTSTAMP:20260422T115836Z
UID:8049033ac46545759dcee15cc16d1a92@www.badalona.cat
CREATED:20231124T085404Z
LAST-MODIFIED:20231124T085404Z
URL:https://www.badalona.cat/ca/actualitat/agenda/35668
END:VEVENT
BEGIN:VTIMEZONE
TZID:Europe/Madrid
X-LIC-LOCATION:Europe/Madrid
BEGIN:DAYLIGHT
DTSTART:20230326T030000
TZNAME:CEST
TZOFFSETFROM:+0100
TZOFFSETTO:+0200
END:DAYLIGHT
END:VTIMEZONE
END:VCALENDAR
