BEGIN:VCALENDAR
VERSION:2.0
PRODID:-//Plone.org//NONSGML plone.app.event//EN
X-WR-TIMEZONE:Europe/Madrid
BEGIN:VEVENT
SUMMARY:2a NIT DE MONÒLEGS SOLIDARIS
DTSTART;TZID=Europe/Madrid:20230916T200000
DTEND;TZID=Europe/Madrid:20230916T230000
DTSTAMP:20260422T115802Z
UID:0cf0977f79d746ee8300d037fddbd303@www.badalona.cat
CREATED:20231124T085404Z
LAST-MODIFIED:20231124T085404Z
URL:https://www.badalona.cat/ca/actualitat/agenda/35667
END:VEVENT
BEGIN:VTIMEZONE
TZID:Europe/Madrid
X-LIC-LOCATION:Europe/Madrid
BEGIN:DAYLIGHT
DTSTART:20230326T030000
TZNAME:CEST
TZOFFSETFROM:+0100
TZOFFSETTO:+0200
END:DAYLIGHT
END:VTIMEZONE
END:VCALENDAR
