BEGIN:VCALENDAR
VERSION:2.0
PRODID:-//Plone.org//NONSGML plone.app.event//EN
X-WR-TIMEZONE:Europe/Madrid
BEGIN:VEVENT
SUMMARY:MOJINOS ESCOZÍOS - Festival de Música del Gran Sol
DTSTART;TZID=Europe/Madrid:20230911T213000
DTEND;TZID=Europe/Madrid:20230911T233000
DTSTAMP:20260422T134127Z
UID:e4aa0d0d648c41c2b01c5e3211e48b02@www.badalona.cat
CREATED:20231124T085404Z
LAST-MODIFIED:20231124T085404Z
URL:https://www.badalona.cat/ca/actualitat/agenda/35655
END:VEVENT
BEGIN:VTIMEZONE
TZID:Europe/Madrid
X-LIC-LOCATION:Europe/Madrid
BEGIN:DAYLIGHT
DTSTART:20230326T030000
TZNAME:CEST
TZOFFSETFROM:+0100
TZOFFSETTO:+0200
END:DAYLIGHT
END:VTIMEZONE
END:VCALENDAR
