BEGIN:VCALENDAR
VERSION:2.0
PRODID:-//Plone.org//NONSGML plone.app.event//EN
X-WR-TIMEZONE:Europe/Madrid
BEGIN:VEVENT
SUMMARY:CAMELA - Festival de Música del Gran Sol
DTSTART;TZID=Europe/Madrid:20230910T213000
DTEND;TZID=Europe/Madrid:20230910T233000
DTSTAMP:20260422T120335Z
UID:71e100d0a7b740eea3891c57f11d786c@www.badalona.cat
CREATED:20231124T085404Z
LAST-MODIFIED:20231124T085404Z
URL:https://www.badalona.cat/ca/actualitat/agenda/35654
END:VEVENT
BEGIN:VTIMEZONE
TZID:Europe/Madrid
X-LIC-LOCATION:Europe/Madrid
BEGIN:DAYLIGHT
DTSTART:20230326T030000
TZNAME:CEST
TZOFFSETFROM:+0100
TZOFFSETTO:+0200
END:DAYLIGHT
END:VTIMEZONE
END:VCALENDAR
