BEGIN:VCALENDAR
VERSION:2.0
PRODID:-//Plone.org//NONSGML plone.app.event//EN
X-WR-TIMEZONE:Europe/Madrid
BEGIN:VEVENT
SUMMARY:La nena que va aturar el trànsit - Hora del conte
DTSTART;TZID=Europe/Madrid:20230921T173000
DTEND;TZID=Europe/Madrid:20230921T190000
DTSTAMP:20260422T115849Z
UID:64278591a1824fbaa8640bc99b1c4119@www.badalona.cat
CREATED:20231124T085403Z
LAST-MODIFIED:20231124T085403Z
URL:https://www.badalona.cat/ca/actualitat/agenda/35644
END:VEVENT
BEGIN:VTIMEZONE
TZID:Europe/Madrid
X-LIC-LOCATION:Europe/Madrid
BEGIN:DAYLIGHT
DTSTART:20230326T030000
TZNAME:CEST
TZOFFSETFROM:+0100
TZOFFSETTO:+0200
END:DAYLIGHT
END:VTIMEZONE
END:VCALENDAR
