BEGIN:VCALENDAR
VERSION:2.0
PRODID:-//Plone.org//NONSGML plone.app.event//EN
X-WR-TIMEZONE:Europe/Madrid
BEGIN:VEVENT
SUMMARY:La comunicació amb la persona amb deteriorament cognitiu. Dia Int
 ernacional de l'Alzheimer - Conferència
DTSTART;TZID=Europe/Madrid:20230921T170000
DTEND;TZID=Europe/Madrid:20230921T180000
DTSTAMP:20260422T120352Z
UID:02f4ce9002304ab8aea83d6932896cd9@www.badalona.cat
CREATED:20231124T085403Z
LAST-MODIFIED:20231124T085403Z
URL:https://www.badalona.cat/ca/actualitat/agenda/35642
END:VEVENT
BEGIN:VTIMEZONE
TZID:Europe/Madrid
X-LIC-LOCATION:Europe/Madrid
BEGIN:DAYLIGHT
DTSTART:20230326T030000
TZNAME:CEST
TZOFFSETFROM:+0100
TZOFFSETTO:+0200
END:DAYLIGHT
END:VTIMEZONE
END:VCALENDAR
