BEGIN:VCALENDAR
VERSION:2.0
PRODID:-//Plone.org//NONSGML plone.app.event//EN
X-WR-TIMEZONE:Europe/Madrid
BEGIN:VEVENT
SUMMARY:Recursos socials a l’abast de la família cuidadora. Dia Interna
 cional de l'Alzheimer - Conferència
DTSTART;TZID=Europe/Madrid:20230919T170000
DTEND;TZID=Europe/Madrid:20230919T180000
DTSTAMP:20260422T110555Z
UID:49a7033f444c4519aad4db3ebc75a694@www.badalona.cat
CREATED:20231124T085403Z
LAST-MODIFIED:20231124T085403Z
URL:https://www.badalona.cat/ca/actualitat/agenda/35610
END:VEVENT
BEGIN:VTIMEZONE
TZID:Europe/Madrid
X-LIC-LOCATION:Europe/Madrid
BEGIN:DAYLIGHT
DTSTART:20230326T030000
TZNAME:CEST
TZOFFSETFROM:+0100
TZOFFSETTO:+0200
END:DAYLIGHT
END:VTIMEZONE
END:VCALENDAR
