BEGIN:VCALENDAR
VERSION:2.0
PRODID:-//Plone.org//NONSGML plone.app.event//EN
X-WR-TIMEZONE:Europe/Madrid
BEGIN:VEVENT
SUMMARY:Laboratori Parc de la Serralada de Marina - Laboratori de lectura
DTSTART;TZID=Europe/Madrid:20230918T173000
DTEND;TZID=Europe/Madrid:20230918T183000
DTSTAMP:20260422T055509Z
UID:7f4de7fa87b5446981e948fd5f91f751@www.badalona.cat
CREATED:20231124T085403Z
LAST-MODIFIED:20231124T085403Z
URL:https://www.badalona.cat/ca/actualitat/agenda/35608
END:VEVENT
BEGIN:VTIMEZONE
TZID:Europe/Madrid
X-LIC-LOCATION:Europe/Madrid
BEGIN:DAYLIGHT
DTSTART:20230326T030000
TZNAME:CEST
TZOFFSETFROM:+0100
TZOFFSETTO:+0200
END:DAYLIGHT
END:VTIMEZONE
END:VCALENDAR
