BEGIN:VCALENDAR
VERSION:2.0
PRODID:-//Plone.org//NONSGML plone.app.event//EN
X-WR-TIMEZONE:Europe/Madrid
BEGIN:VEVENT
SUMMARY:Renda Mínima Garantida - Taller d’alfabetització digital i Adm
 inistració electrònica
DTSTART;TZID=Europe/Madrid:20230914T173000
DTEND;TZID=Europe/Madrid:20230914T193000
DTSTAMP:20260422T040918Z
UID:962d0ff3b980438ea7102e54e30b964f@www.badalona.cat
CREATED:20231124T085403Z
LAST-MODIFIED:20231124T085403Z
URL:https://www.badalona.cat/ca/actualitat/agenda/35606
END:VEVENT
BEGIN:VTIMEZONE
TZID:Europe/Madrid
X-LIC-LOCATION:Europe/Madrid
BEGIN:DAYLIGHT
DTSTART:20230326T030000
TZNAME:CEST
TZOFFSETFROM:+0100
TZOFFSETTO:+0200
END:DAYLIGHT
END:VTIMEZONE
END:VCALENDAR
