BEGIN:VCALENDAR
VERSION:2.0
PRODID:-//Plone.org//NONSGML plone.app.event//EN
X-WR-TIMEZONE:Europe/Madrid
BEGIN:VEVENT
SUMMARY:MOSTRA D’IMATGERIA FESTIVA DE LA CIUTAT - Festa Major 2023
DTSTART;TZID=Europe/Madrid:20230814T110000
DTEND;TZID=Europe/Madrid:20230816T210000
DTSTAMP:20260422T092321Z
UID:3d543906023645748d4c2037445f963f@www.badalona.cat
CREATED:20231124T085402Z
LAST-MODIFIED:20231124T085403Z
URL:https://www.badalona.cat/ca/actualitat/agenda/35604
END:VEVENT
BEGIN:VTIMEZONE
TZID:Europe/Madrid
X-LIC-LOCATION:Europe/Madrid
BEGIN:DAYLIGHT
DTSTART:20230326T030000
TZNAME:CEST
TZOFFSETFROM:+0100
TZOFFSETTO:+0200
END:DAYLIGHT
END:VTIMEZONE
END:VCALENDAR
