BEGIN:VCALENDAR
VERSION:2.0
PRODID:-//Plone.org//NONSGML plone.app.event//EN
X-WR-TIMEZONE:Europe/Madrid
BEGIN:VEVENT
SUMMARY:SANT ROC - Festa Major 2023
DTSTART;TZID=Europe/Madrid:20230816T080000
DTEND;TZID=Europe/Madrid:20230816T143000
DTSTAMP:20260422T040836Z
UID:3c1758de5b334dd28f15170059541482@www.badalona.cat
CREATED:20231124T085402Z
LAST-MODIFIED:20231124T085402Z
URL:https://www.badalona.cat/ca/actualitat/agenda/35573
END:VEVENT
BEGIN:VTIMEZONE
TZID:Europe/Madrid
X-LIC-LOCATION:Europe/Madrid
BEGIN:DAYLIGHT
DTSTART:20230326T030000
TZNAME:CEST
TZOFFSETFROM:+0100
TZOFFSETTO:+0200
END:DAYLIGHT
END:VTIMEZONE
END:VCALENDAR
