BEGIN:VCALENDAR
VERSION:2.0
PRODID:-//Plone.org//NONSGML plone.app.event//EN
X-WR-TIMEZONE:Europe/Madrid
BEGIN:VEVENT
SUMMARY:CONCERT FIGA FLAWAS I JULIETA - Festa Major 2023
DTSTART;TZID=Europe/Madrid:20230816T011500
DTEND;TZID=Europe/Madrid:20230816T024500
DTSTAMP:20260422T021135Z
UID:3fc7087b613140ccac77047d849d6364@www.badalona.cat
CREATED:20231124T085402Z
LAST-MODIFIED:20231124T085402Z
URL:https://www.badalona.cat/ca/actualitat/agenda/35572
END:VEVENT
BEGIN:VTIMEZONE
TZID:Europe/Madrid
X-LIC-LOCATION:Europe/Madrid
BEGIN:DAYLIGHT
DTSTART:20230326T030000
TZNAME:CEST
TZOFFSETFROM:+0100
TZOFFSETTO:+0200
END:DAYLIGHT
END:VTIMEZONE
END:VCALENDAR
