BEGIN:VCALENDAR
VERSION:2.0
PRODID:-//Plone.org//NONSGML plone.app.event//EN
X-WR-TIMEZONE:Europe/Madrid
BEGIN:VEVENT
SUMMARY:DINAR POPULAR - Festa Major 2023
DTSTART;TZID=Europe/Madrid:20230815T143000
DTEND;TZID=Europe/Madrid:20230815T160000
DTSTAMP:20260422T055552Z
UID:642eae58c9b449d19ff4eae81a3a95f2@www.badalona.cat
CREATED:20231124T085402Z
LAST-MODIFIED:20231124T085402Z
URL:https://www.badalona.cat/ca/actualitat/agenda/35561
END:VEVENT
BEGIN:VTIMEZONE
TZID:Europe/Madrid
X-LIC-LOCATION:Europe/Madrid
BEGIN:DAYLIGHT
DTSTART:20230326T030000
TZNAME:CEST
TZOFFSETFROM:+0100
TZOFFSETTO:+0200
END:DAYLIGHT
END:VTIMEZONE
END:VCALENDAR
