BEGIN:VCALENDAR
VERSION:2.0
PRODID:-//Plone.org//NONSGML plone.app.event//EN
X-WR-TIMEZONE:Europe/Madrid
BEGIN:VEVENT
SUMMARY:15 D'AGOST: FESTA MAJOR- Festa Major 2023
DTSTART;TZID=Europe/Madrid:20230815T080000
DTEND;TZID=Europe/Madrid:20230815T133000
DTSTAMP:20260422T064529Z
UID:c1a61be0b0a641409fa012b54a59bc84@www.badalona.cat
CREATED:20231124T085402Z
LAST-MODIFIED:20231124T085402Z
URL:https://www.badalona.cat/ca/actualitat/agenda/35560
END:VEVENT
BEGIN:VTIMEZONE
TZID:Europe/Madrid
X-LIC-LOCATION:Europe/Madrid
BEGIN:DAYLIGHT
DTSTART:20230326T030000
TZNAME:CEST
TZOFFSETFROM:+0100
TZOFFSETTO:+0200
END:DAYLIGHT
END:VTIMEZONE
END:VCALENDAR
