BEGIN:VCALENDAR
VERSION:2.0
PRODID:-//Plone.org//NONSGML plone.app.event//EN
X-WR-TIMEZONE:Europe/Madrid
BEGIN:VEVENT
SUMMARY:CONCERT LOS 80 PRINCIPALES - Festa Major 2023
DTSTART;TZID=Europe/Madrid:20230814T221500
DTEND;TZID=Europe/Madrid:20230815T023000
DTSTAMP:20260422T040755Z
UID:3b8f3c7f85a649c591aafc438cbb9bc2@www.badalona.cat
CREATED:20231124T085401Z
LAST-MODIFIED:20231124T085401Z
URL:https://www.badalona.cat/ca/actualitat/agenda/35559
END:VEVENT
BEGIN:VTIMEZONE
TZID:Europe/Madrid
X-LIC-LOCATION:Europe/Madrid
BEGIN:DAYLIGHT
DTSTART:20230326T030000
TZNAME:CEST
TZOFFSETFROM:+0100
TZOFFSETTO:+0200
END:DAYLIGHT
END:VTIMEZONE
END:VCALENDAR
