BEGIN:VCALENDAR
VERSION:2.0
PRODID:-//Plone.org//NONSGML plone.app.event//EN
X-WR-TIMEZONE:Europe/Madrid
BEGIN:VEVENT
SUMMARY:CASTELL DE FOCS - Festa Major 2023
DTSTART;TZID=Europe/Madrid:20230814T220000
DTEND;TZID=Europe/Madrid:20230814T221500
DTSTAMP:20260422T040836Z
UID:51ae38cea5724ba8a806d35afb700c93@www.badalona.cat
CREATED:20231124T085401Z
LAST-MODIFIED:20231124T085401Z
URL:https://www.badalona.cat/ca/actualitat/agenda/35557
END:VEVENT
BEGIN:VTIMEZONE
TZID:Europe/Madrid
X-LIC-LOCATION:Europe/Madrid
BEGIN:DAYLIGHT
DTSTART:20230326T030000
TZNAME:CEST
TZOFFSETFROM:+0100
TZOFFSETTO:+0200
END:DAYLIGHT
END:VTIMEZONE
END:VCALENDAR
