BEGIN:VCALENDAR
VERSION:2.0
PRODID:-//Plone.org//NONSGML plone.app.event//EN
X-WR-TIMEZONE:Europe/Madrid
BEGIN:VEVENT
SUMMARY:Inauguració de l’exposició: “Patria común. Delibes ilustrad
 o”
DTSTART;TZID=Europe/Madrid:20230912T200000
DTEND;TZID=Europe/Madrid:20230912T010000
DTSTAMP:20260422T004921Z
UID:6cc5dd3d95d64f109c07f073e7bb0586@www.badalona.cat
CREATED:20231124T085401Z
LAST-MODIFIED:20231124T085401Z
URL:https://www.badalona.cat/ca/actualitat/agenda/35525
END:VEVENT
BEGIN:VTIMEZONE
TZID:Europe/Madrid
X-LIC-LOCATION:Europe/Madrid
BEGIN:DAYLIGHT
DTSTART:20230326T030000
TZNAME:CEST
TZOFFSETFROM:+0100
TZOFFSETTO:+0200
END:DAYLIGHT
END:VTIMEZONE
END:VCALENDAR
