BEGIN:VCALENDAR
VERSION:2.0
PRODID:-//Plone.org//NONSGML plone.app.event//EN
X-WR-TIMEZONE:Europe/Madrid
BEGIN:VEVENT
SUMMARY:VIU L'ESTIU A BADALONA 2023
DTSTART;TZID=Europe/Madrid:20230621T090000
DTEND;TZID=Europe/Madrid:20230816T235500
DTSTAMP:20260422T055552Z
UID:5ff813afc801426ea3076609331a7c6f@www.badalona.cat
CREATED:20231124T085400Z
LAST-MODIFIED:20231124T085400Z
URL:https://www.badalona.cat/ca/actualitat/agenda/35499
END:VEVENT
BEGIN:VTIMEZONE
TZID:Europe/Madrid
X-LIC-LOCATION:Europe/Madrid
BEGIN:DAYLIGHT
DTSTART:20230326T030000
TZNAME:CEST
TZOFFSETFROM:+0100
TZOFFSETTO:+0200
END:DAYLIGHT
END:VTIMEZONE
END:VCALENDAR
