BEGIN:VCALENDAR
VERSION:2.0
PRODID:-//Plone.org//NONSGML plone.app.event//EN
X-WR-TIMEZONE:Europe/Madrid
BEGIN:VEVENT
SUMMARY:Guanyem un estiu lector
DTSTART;TZID=Europe/Madrid:20230606T153000
DTEND;TZID=Europe/Madrid:20230731T200000
DTSTAMP:20260421T223824Z
UID:46d28343ced64fb7ba2547c12ba8efbe@www.badalona.cat
CREATED:20231124T085400Z
LAST-MODIFIED:20231124T085400Z
URL:https://www.badalona.cat/ca/actualitat/agenda/35496
END:VEVENT
BEGIN:VTIMEZONE
TZID:Europe/Madrid
X-LIC-LOCATION:Europe/Madrid
BEGIN:DAYLIGHT
DTSTART:20230326T030000
TZNAME:CEST
TZOFFSETFROM:+0100
TZOFFSETTO:+0200
END:DAYLIGHT
END:VTIMEZONE
END:VCALENDAR
