BEGIN:VCALENDAR
VERSION:2.0
PRODID:-//Plone.org//NONSGML plone.app.event//EN
X-WR-TIMEZONE:Europe/Madrid
BEGIN:VEVENT
SUMMARY:Exposició: “Les meves fotografies em fan por. Eugeni Forcano i 
 Josep Pla"
DTSTART;TZID=Europe/Madrid:20230607T100000
DTEND;TZID=Europe/Madrid:20230728T203000
DTSTAMP:20260422T021246Z
UID:b054c24c109e43af98443613bc8b1445@www.badalona.cat
CREATED:20231124T085400Z
LAST-MODIFIED:20231124T085400Z
URL:https://www.badalona.cat/ca/actualitat/agenda/35442
END:VEVENT
BEGIN:VTIMEZONE
TZID:Europe/Madrid
X-LIC-LOCATION:Europe/Madrid
BEGIN:DAYLIGHT
DTSTART:20230326T030000
TZNAME:CEST
TZOFFSETFROM:+0100
TZOFFSETTO:+0200
END:DAYLIGHT
END:VTIMEZONE
END:VCALENDAR
