BEGIN:VCALENDAR
VERSION:2.0
PRODID:-//Plone.org//NONSGML plone.app.event//EN
X-WR-TIMEZONE:Europe/Madrid
BEGIN:VEVENT
SUMMARY:Estiu Cultural a la Plaça 2023
DTSTART;TZID=Europe/Madrid:20230625T180000
DTEND;TZID=Europe/Madrid:20230727T210000
DTSTAMP:20260422T055633Z
UID:0bcb7eab27644a489efbaa5c4bccc944@www.badalona.cat
CREATED:20231124T085400Z
LAST-MODIFIED:20231124T085400Z
URL:https://www.badalona.cat/ca/actualitat/agenda/35431
END:VEVENT
BEGIN:VTIMEZONE
TZID:Europe/Madrid
X-LIC-LOCATION:Europe/Madrid
BEGIN:DAYLIGHT
DTSTART:20230326T030000
TZNAME:CEST
TZOFFSETFROM:+0100
TZOFFSETTO:+0200
END:DAYLIGHT
END:VTIMEZONE
END:VCALENDAR
