BEGIN:VCALENDAR
VERSION:2.0
PRODID:-//Plone.org//NONSGML plone.app.event//EN
X-WR-TIMEZONE:Europe/Madrid
BEGIN:VEVENT
SUMMARY:Teatre a la fresca\, comèdies breus. Textos de Marc Torrecillas\,
  amb Berta Bahr i Edgar Moreno
DTSTART;TZID=Europe/Madrid:20230726T190000
DTEND;TZID=Europe/Madrid:20230726T203000
DTSTAMP:20260422T020750Z
UID:4f75a000f1384be881c4c5a88b8f2e1c@www.badalona.cat
CREATED:20231124T085400Z
LAST-MODIFIED:20231124T085400Z
URL:https://www.badalona.cat/ca/actualitat/agenda/35430
END:VEVENT
BEGIN:VTIMEZONE
TZID:Europe/Madrid
X-LIC-LOCATION:Europe/Madrid
BEGIN:DAYLIGHT
DTSTART:20230326T030000
TZNAME:CEST
TZOFFSETFROM:+0100
TZOFFSETTO:+0200
END:DAYLIGHT
END:VTIMEZONE
END:VCALENDAR
