BEGIN:VCALENDAR
VERSION:2.0
PRODID:-//Plone.org//NONSGML plone.app.event//EN
X-WR-TIMEZONE:Europe/Madrid
BEGIN:VEVENT
SUMMARY:ESTIU AMB RITME - Concert 22 de juliol
DTSTART;TZID=Europe/Madrid:20230722T180000
DTEND;TZID=Europe/Madrid:20230722T235500
DTSTAMP:20260422T021252Z
UID:7f7cfa6c10c34e5dbe8c8ea4a3e0dc51@www.badalona.cat
CREATED:20231124T085359Z
LAST-MODIFIED:20231124T085359Z
URL:https://www.badalona.cat/ca/actualitat/agenda/35428
END:VEVENT
BEGIN:VTIMEZONE
TZID:Europe/Madrid
X-LIC-LOCATION:Europe/Madrid
BEGIN:DAYLIGHT
DTSTART:20230326T030000
TZNAME:CEST
TZOFFSETFROM:+0100
TZOFFSETTO:+0200
END:DAYLIGHT
END:VTIMEZONE
END:VCALENDAR
