BEGIN:VCALENDAR
VERSION:2.0
PRODID:-//Plone.org//NONSGML plone.app.event//EN
X-WR-TIMEZONE:Europe/Madrid
BEGIN:VEVENT
SUMMARY:Club Lectura Hanami
DTSTART;TZID=Europe/Madrid:20230721T183000
DTEND;TZID=Europe/Madrid:20230721T193000
DTSTAMP:20260422T002027Z
UID:54d50c62e12546a49672ecbf764639bb@www.badalona.cat
CREATED:20231124T085359Z
LAST-MODIFIED:20231124T085359Z
URL:https://www.badalona.cat/ca/actualitat/agenda/35423
END:VEVENT
BEGIN:VTIMEZONE
TZID:Europe/Madrid
X-LIC-LOCATION:Europe/Madrid
BEGIN:DAYLIGHT
DTSTART:20230326T030000
TZNAME:CEST
TZOFFSETFROM:+0100
TZOFFSETTO:+0200
END:DAYLIGHT
END:VTIMEZONE
END:VCALENDAR
