BEGIN:VCALENDAR
VERSION:2.0
PRODID:-//Plone.org//NONSGML plone.app.event//EN
X-WR-TIMEZONE:Europe/Madrid
BEGIN:VEVENT
SUMMARY:Assaig a la Fresca
DTSTART;TZID=Europe/Madrid:20230720T203000
DTEND;TZID=Europe/Madrid:20230720T220000
DTSTAMP:20260422T021430Z
UID:243b306d17d847a493262cfe35710203@www.badalona.cat
CREATED:20231124T085359Z
LAST-MODIFIED:20231124T085359Z
URL:https://www.badalona.cat/ca/actualitat/agenda/35422
END:VEVENT
BEGIN:VTIMEZONE
TZID:Europe/Madrid
X-LIC-LOCATION:Europe/Madrid
BEGIN:DAYLIGHT
DTSTART:20230326T030000
TZNAME:CEST
TZOFFSETFROM:+0100
TZOFFSETTO:+0200
END:DAYLIGHT
END:VTIMEZONE
END:VCALENDAR
