BEGIN:VCALENDAR
VERSION:2.0
PRODID:-//Plone.org//NONSGML plone.app.event//EN
X-WR-TIMEZONE:Europe/Madrid
BEGIN:VEVENT
SUMMARY:24è Concurs de Música de Badalona
DTSTART;TZID=Europe/Madrid:20230715T200000
DTEND;TZID=Europe/Madrid:20230715T223000
DTSTAMP:20260422T021324Z
UID:008af1a3907247f48021fa9605dd201a@www.badalona.cat
CREATED:20231124T085359Z
LAST-MODIFIED:20231124T085359Z
URL:https://www.badalona.cat/ca/actualitat/agenda/35416
END:VEVENT
BEGIN:VTIMEZONE
TZID:Europe/Madrid
X-LIC-LOCATION:Europe/Madrid
BEGIN:DAYLIGHT
DTSTART:20230326T030000
TZNAME:CEST
TZOFFSETFROM:+0100
TZOFFSETTO:+0200
END:DAYLIGHT
END:VTIMEZONE
END:VCALENDAR
